BEGIN:VCALENDAR
VERSION:2.0
PRODID:-//hacksw/handcal//NONSGML v1.0//EN
BEGIN:VEVENT
SUMMARY:SEMI-MARATHON DeVenir Rochefort 2026
UID:a159653e-e1e5-4469-96b7-7c5ee8bc35b8
DTSTART:20260418T220000Z
DTEND:20260419T220000Z
LOCATION:Localisation   
CATEGORIES:Sportif
STATUS:
URL;VALUE=URI:https://athletonnay.sportsregions.fr/evenements/2026/04/19/semi-marathon-devenir-rochefort-2026-2442792
END:VEVENT
END:VCALENDAR
